BEGIN:VCALENDAR
VERSION:2.0
PRODID:-//ChamberMaster//Event Calendar 2.0//EN
METHOD:PUBLISH
X-PUBLISHED-TTL:P1H
REFRESH-INTERVAL:P1H
CALSCALE:GREGORIAN
BEGIN:VTIMEZONE
TZID:America/Phoenix
BEGIN:DAYLIGHT
DTSTART:20070311T020000
TZOFFSETFROM:-0700
TZOFFSETTO:-0700
TZNAME:(UTC-07:00) Arizona
END:DAYLIGHT
BEGIN:STANDARD
DTSTART:20071104T020000
TZOFFSETFROM:-0700
TZOFFSETTO:-0700
TZNAME:(UTC-07:00) Arizona
END:STANDARD
END:VTIMEZONE
BEGIN:VEVENT
DTSTART;TZID=America/Phoenix:20260507T160000
DTEND;TZID=America/Phoenix:20260507T190000
X-MICROSOFT-CDO-ALLDAYEVENT:FALSE
SUMMARY:RAPAC Fiesta De Mayo
DESCRIPTION:Join us on Thursday\, May 7\, 2026 for our RAPAC Fundraiser! Location: Continental Shopping Plaza Courtyard. Time: 4PM -7PM. Cost: $ 35.00 - Ticket Includes food and 1 drink ticket. Register Now for a Fun-Filled Event featuring Auction Items\, Live Music & More !
X-ALT-DESC;FMTTYPE=text/html:<!DOCTYPE html><html><head><title></title></head><body aria-disabled="false"><p>Join us on Thursday\, May 7\, 2026 for our RAPAC Fundraiser! Location: Continental Shopping Plaza Courtyard. Time: 4PM -7PM. Cost: $ 35.00 - Ticket Includes food and 1 drink ticket. Register Now for a Fun-Filled Event featuring Auction Items\, Live Music &amp\; More !</p></body></html>
LOCATION:210 W. Continental Rd. Green Valley
UID:e.3034.1435331
SEQUENCE:3
DTSTAMP:20260425T114340Z
URL:https://members.gvsar.com/eventcalendar/Details/rapac-fiesta-de-mayo-1699009?sourceTypeId=Hub
END:VEVENT
END:VCALENDAR
